{
 "currentVersion": 10.81,
 "serviceDescription": "",
 "mapName": "Couches",
 "description": "",
 "copyrightText": "",
 "supportsDynamicLayers": false,
 "layers": [
  {
   "id": 0,
   "name": "Plan 1940",
   "parentLayerId": -1,
   "defaultVisibility": true,
   "subLayerIds": null,
   "minScale": 100050,
   "maxScale": 0,
   "type": "Raster Layer"
  }
 ],
 "tables": [],
 "spatialReference": {
  "wkid": 102110,
  "latestWkid": 2154
 },
 "singleFusedMapCache": true,
 "tileInfo": {
  "rows": 256,
  "cols": 256,
  "dpi": 96,
  "format": "MIXED",
  "compressionQuality": 75,
  "origin": {
   "x": -35597500,
   "y": 48953100
  },
  "spatialReference": {
   "wkid": 102110,
   "latestWkid": 2154
  },
  "lods": [
   {
    "level": 0,
    "resolution": 26.458386250105836,
    "scale": 100000
   },
   {
    "level": 1,
    "resolution": 19.843789687579378,
    "scale": 75000
   },
   {
    "level": 2,
    "resolution": 13.229193125052918,
    "scale": 50000
   },
   {
    "level": 3,
    "resolution": 7.9375158750317505,
    "scale": 30000
   },
   {
    "level": 4,
    "resolution": 5.291677250021167,
    "scale": 20000
   },
   {
    "level": 5,
    "resolution": 2.6458386250105836,
    "scale": 10000
   },
   {
    "level": 6,
    "resolution": 1.8520870375074086,
    "scale": 7000
   },
   {
    "level": 7,
    "resolution": 1.3229193125052918,
    "scale": 5000
   },
   {
    "level": 8,
    "resolution": 0.9260435187537043,
    "scale": 3500
   },
   {
    "level": 9,
    "resolution": 0.6614596562526459,
    "scale": 2500
   },
   {
    "level": 10,
    "resolution": 0.39687579375158755,
    "scale": 1500
   },
   {
    "level": 11,
    "resolution": 0.26458386250105836,
    "scale": 1000
   },
   {
    "level": 12,
    "resolution": 0.18520870375074083,
    "scale": 700
   },
   {
    "level": 13,
    "resolution": 0.13229193125052918,
    "scale": 500
   },
   {
    "level": 14,
    "resolution": 0.0793751587503175,
    "scale": 300
   },
   {
    "level": 15,
    "resolution": 0.05291677250021167,
    "scale": 200
   }
  ]
 },
 "initialExtent": {
  "xmin": 1022424.0198587708,
  "ymin": 6279687.764135287,
  "xmax": 1026850.5078784134,
  "ymax": 6281262.0381171685,
  "spatialReference": {
   "wkid": 102110,
   "latestWkid": 2154
  }
 },
 "fullExtent": {
  "xmin": 1018639.0100002289,
  "ymin": 6275495.890001301,
  "xmax": 1029521.5700016096,
  "ymax": 6283104.3799991645,
  "spatialReference": {
   "wkid": 102110,
   "latestWkid": 2154
  }
 },
 "minScale": 100000,
 "maxScale": 200,
 "units": "esriMeters",
 "supportedImageFormatTypes": "PNG32,PNG24,PNG,JPG,DIB,TIFF,EMF,PS,PDF,GIF,SVG,SVGZ,BMP",
 "documentInfo": {
  "Title": "Plan de Ville",
  "Author": "GUIEYSSE",
  "Comments": "Fond de plan cannes",
  "Subject": "Plan de Ville Cannes",
  "Category": "",
  "AntialiasingMode": "None",
  "TextAntialiasingMode": "Force",
  "Keywords": "GEOCANNES"
 },
 "capabilities": "Map,Data,Query",
 "supportedQueryFormats": "JSON, geoJSON",
 "exportTilesAllowed": false,
 "referenceScale": 1999.9999999995666,
 "datumTransformations": [
  {
   "geoTransforms": [
    {
     "wkid": 108001,
     "latestWkid": 1241,
     "transformForward": true,
     "name": "NAD_1927_To_NAD_1983_NADCON"
    }
   ]
  },
  {
   "geoTransforms": [
    {
     "wkid": 108001,
     "latestWkid": 1241,
     "transformForward": false,
     "name": "NAD_1927_To_NAD_1983_NADCON"
    }
   ]
  }
 ],
 "supportsDatumTransformation": true,
 "maxRecordCount": 1000,
 "maxImageHeight": 4096,
 "maxImageWidth": 4096,
 "supportedExtensions": "",
 "serviceItemId": "78a724e1a5104d09816d265a9abf5309"
}
